BEGIN:VCALENDAR
VERSION:2.0
PRODID:-//ESSA - ECPv6.15.17//NONSGML v1.0//EN
CALSCALE:GREGORIAN
METHOD:PUBLISH
X-ORIGINAL-URL:https://szkoleniazbezpieczenstwa.pl
X-WR-CALDESC:Wydarzenia dla ESSA
REFRESH-INTERVAL;VALUE=DURATION:PT1H
X-Robots-Tag:noindex
X-PUBLISHED-TTL:PT1H
BEGIN:VTIMEZONE
TZID:Europe/Warsaw
BEGIN:DAYLIGHT
TZOFFSETFROM:+0100
TZOFFSETTO:+0200
TZNAME:CEST
DTSTART:20220327T010000
END:DAYLIGHT
BEGIN:STANDARD
TZOFFSETFROM:+0200
TZOFFSETTO:+0100
TZNAME:CET
DTSTART:20221030T010000
END:STANDARD
BEGIN:DAYLIGHT
TZOFFSETFROM:+0100
TZOFFSETTO:+0200
TZNAME:CEST
DTSTART:20230326T010000
END:DAYLIGHT
BEGIN:STANDARD
TZOFFSETFROM:+0200
TZOFFSETTO:+0100
TZNAME:CET
DTSTART:20231029T010000
END:STANDARD
BEGIN:DAYLIGHT
TZOFFSETFROM:+0100
TZOFFSETTO:+0200
TZNAME:CEST
DTSTART:20240331T010000
END:DAYLIGHT
BEGIN:STANDARD
TZOFFSETFROM:+0200
TZOFFSETTO:+0100
TZNAME:CET
DTSTART:20241027T010000
END:STANDARD
END:VTIMEZONE
BEGIN:VEVENT
DTSTART;TZID=Europe/Warsaw:20230509T093000
DTEND;TZID=Europe/Warsaw:20230509T153000
DTSTAMP:20260420T190104
CREATED:20230131T114522Z
LAST-MODIFIED:20230131T114522Z
UID:241583-1683624600-1683646200@szkoleniazbezpieczenstwa.pl
SUMMARY:Szkolenie online: Komunikacja kryzysowa
DESCRIPTION:Celem szkolenia Komunikacja Kryzysowa jest nabycie umiejętności w zakresie prowadzenia komunikacji w sytuacjach kryzysowych. Istotnym elementem w szkoleniu jest pokazanie powiązań między wewnętrznymi i zewnętrznymi systemami komunikacji i zależności między nimi mogą skutkować postrzeganiem zdarzeń kryzysowych. Kluczowe też jest\, aby rozumieć że jedna informacja przekazywana będzie do osób o różnym poziomie wykształcenia\, rozumienia\, ale też i różnych relacjach z podmiotem\, którego dotyczy incydent czy kryzys. Niebywale ważnym aspektem w komunikacji kryzysowej jest obrona informacyjna. Może być aktywna i pasywna\, oparta o narzędzia mniej lub bardziej sformalizowane. Aby dobrać właściwe narzędzia konieczna jest kontrola mediów (media scrutiny). \n 
URL:https://szkoleniazbezpieczenstwa.pl/kalendarz/szkolenie-online-komunikacja-kryzysowa/
LOCATION:online
END:VEVENT
END:VCALENDAR